BEGIN:VCALENDAR
VERSION:2.0
PRODID:-//rssny.org//NONSGML kigkonsult.se iCalcreator 2.30.10//
CALSCALE:GREGORIAN
METHOD:PUBLISH
UID:3c758ac6-ec18-4838-97e1-9051ad29ef3c
X-WR-CALDESC:
X-WR-RELCALID:67ac99602e265e697631cf7b11df6671
X-WR-TIMEZONE:America/New_York
BEGIN:VTIMEZONE
TZID:America/New_York
BEGIN:STANDARD
TZNAME:EST
DTSTART:20241103T020000
TZOFFSETFROM:-0400
TZOFFSETTO:-0500
RDATE:20251102T020000
END:STANDARD
BEGIN:DAYLIGHT
TZNAME:EDT
DTSTART:20240310T020000
TZOFFSETFROM:-0500
TZOFFSETTO:-0400
RDATE:20250309T020000
RDATE:20260308T020000
END:DAYLIGHT
END:VTIMEZONE
BEGIN:VEVENT
UID:b5ec4404-1c94-4f21-8533-4171ec738b35
DTSTAMP:20260423T165147Z
DESCRIPTION:
DTSTART;TZID=America/New_York:20250108T130000
DTEND;TZID=America/New_York:20250108T150000
LOCATION:
SUMMARY:Movies In Center
END:VEVENT
END:VCALENDAR
