BEGIN:VCALENDAR
VERSION:2.0
PRODID:-//rssny.org//NONSGML kigkonsult.se iCalcreator 2.30.10//
CALSCALE:GREGORIAN
METHOD:PUBLISH
UID:ad5178c0-47d7-4e1c-afcc-60816f619f8d
X-WR-CALDESC:Join us for breakfast at the Center!
X-WR-RELCALID:7937dab8bead1382d51ace981896dadb
X-WR-TIMEZONE:America/New_York
BEGIN:VTIMEZONE
TZID:America/New_York
BEGIN:STANDARD
TZNAME:EST
DTSTART:20241103T020000
TZOFFSETFROM:-0400
TZOFFSETTO:-0500
RDATE:20251102T020000
END:STANDARD
BEGIN:DAYLIGHT
TZNAME:EDT
DTSTART:20240310T020000
TZOFFSETFROM:-0500
TZOFFSETTO:-0400
RDATE:20250309T020000
RDATE:20260308T020000
END:DAYLIGHT
END:VTIMEZONE
BEGIN:VEVENT
UID:a60d7267-0c92-43ae-a9c2-9e100bab63ff
DTSTAMP:20260423T165035Z
DESCRIPTION:Join us for breakfast at the Center!
DTSTART;TZID=America/New_York:20250108T090000
DTEND;TZID=America/New_York:20250108T100000
LOCATION:
SUMMARY:Breakfast Club (In Center)
END:VEVENT
END:VCALENDAR
