BEGIN:VCALENDAR
VERSION:2.0
PRODID:-//rssny.org//NONSGML kigkonsult.se iCalcreator 2.30.10//
CALSCALE:GREGORIAN
METHOD:PUBLISH
UID:f3ebc8e7-c0dd-4615-9c79-ecc40ab2beb4
X-WR-CALDESC:
X-WR-RELCALID:b72e1026861e5df780c0e72826ff20dc
X-WR-TIMEZONE:America/New_York
BEGIN:VTIMEZONE
TZID:America/New_York
BEGIN:STANDARD
TZNAME:EST
DTSTART:20241103T020000
TZOFFSETFROM:-0400
TZOFFSETTO:-0500
RDATE:20251102T020000
END:STANDARD
BEGIN:DAYLIGHT
TZNAME:EDT
DTSTART:20240310T020000
TZOFFSETFROM:-0500
TZOFFSETTO:-0400
RDATE:20250309T020000
RDATE:20260308T020000
END:DAYLIGHT
END:VTIMEZONE
BEGIN:VEVENT
UID:4abf08b5-266c-4c5e-a01b-98b8a86de0a0
DTSTAMP:20260423T164852Z
DESCRIPTION:
DTSTART;TZID=America/New_York:20250106T130000
DTEND;TZID=America/New_York:20250106T140000
LOCATION:
SUMMARY:Current Events with Tim (In Center) CANCELED
END:VEVENT
END:VCALENDAR
