BEGIN:VCALENDAR
VERSION:2.0
PRODID:-//rssny.org//NONSGML kigkonsult.se iCalcreator 2.30.10//
CALSCALE:GREGORIAN
METHOD:PUBLISH
UID:3ab48664-5cf7-474a-b776-ccc590eb9f1c
X-WR-CALDESC:
X-WR-RELCALID:df971153546426a5510e977da450a155
X-WR-TIMEZONE:America/New_York
BEGIN:VTIMEZONE
TZID:America/New_York
BEGIN:STANDARD
TZNAME:EST
DTSTART:20241103T020000
TZOFFSETFROM:-0400
TZOFFSETTO:-0500
RDATE:20251102T020000
END:STANDARD
BEGIN:DAYLIGHT
TZNAME:EDT
DTSTART:20240310T020000
TZOFFSETFROM:-0500
TZOFFSETTO:-0400
RDATE:20250309T020000
RDATE:20260308T020000
END:DAYLIGHT
END:VTIMEZONE
BEGIN:VEVENT
UID:df044a1d-63d3-47a0-8fcf-dc836dd4af15
DTSTAMP:20260423T181322Z
DESCRIPTION:
DTSTART;TZID=America/New_York:20241231T083000
DTEND;TZID=America/New_York:20241231T090000
LOCATION:
SUMMARY:Center Closes at 1:00
END:VEVENT
END:VCALENDAR
