BEGIN:VCALENDAR
VERSION:2.0
PRODID:-//rssny.org//NONSGML kigkonsult.se iCalcreator 2.30.10//
CALSCALE:GREGORIAN
METHOD:PUBLISH
UID:161a4c0c-0122-4bbd-8113-ec6c57ac320c
X-WR-CALDESC:
X-WR-RELCALID:2735536840b04298d78b0cecc3274f4b
X-WR-TIMEZONE:America/New_York
BEGIN:VTIMEZONE
TZID:America/New_York
BEGIN:STANDARD
TZNAME:EST
DTSTART:20241103T020000
TZOFFSETFROM:-0400
TZOFFSETTO:-0500
RDATE:20251102T020000
END:STANDARD
BEGIN:DAYLIGHT
TZNAME:EDT
DTSTART:20240310T020000
TZOFFSETFROM:-0500
TZOFFSETTO:-0400
RDATE:20250309T020000
RDATE:20260308T020000
END:DAYLIGHT
END:VTIMEZONE
BEGIN:VEVENT
UID:8d77e61b-b664-445c-a7b9-bd11dc35cb0e
DTSTAMP:20260423T181607Z
DESCRIPTION:
DTSTART;TZID=America/New_York:20241231T100000
DTEND;TZID=America/New_York:20241231T110000
LOCATION:
SUMMARY:Memoir Writing with Donald CANCELED
END:VEVENT
END:VCALENDAR
