BEGIN:VCALENDAR
VERSION:2.0
PRODID:-//rssny.org//NONSGML kigkonsult.se iCalcreator 2.30.10//
CALSCALE:GREGORIAN
METHOD:PUBLISH
UID:0fcd4633-3292-42a0-961e-f313cbba0275
X-WR-CALDESC:Join Barbara Denson for a monthly workshop about all things pl
 ant-related. Each month will be something new\, whether learning about var
 ious plants and plant care or engaging in fun craft projects related to th
 em.
X-WR-RELCALID:2146d0d395bd332ef447d94349ef4842
X-WR-TIMEZONE:America/New_York
BEGIN:VTIMEZONE
TZID:America/New_York
BEGIN:STANDARD
TZNAME:EST
DTSTART:20241103T020000
TZOFFSETFROM:-0400
TZOFFSETTO:-0500
RDATE:20251102T020000
END:STANDARD
BEGIN:DAYLIGHT
TZNAME:EDT
DTSTART:20240310T020000
TZOFFSETFROM:-0500
TZOFFSETTO:-0400
RDATE:20250309T020000
RDATE:20260308T020000
END:DAYLIGHT
END:VTIMEZONE
BEGIN:VEVENT
UID:fd4d30ae-1802-45f3-af4f-467c08b7315a
DTSTAMP:20260423T181911Z
DESCRIPTION:Join Barbara Denson for a monthly workshop about all things pla
 nt-related. Each month will be something new\, whether learning about vari
 ous plants and plant care or engaging in fun craft projects related to the
 m.
DTSTART;TZID=America/New_York:20241223T141500
DTEND;TZID=America/New_York:20241223T151500
LOCATION:
SUMMARY:Horticultural Wellness Workshops with Barbara (In House)
END:VEVENT
END:VCALENDAR
