BEGIN:VCALENDAR
VERSION:2.0
PRODID:-//rssny.org//NONSGML kigkonsult.se iCalcreator 2.30.10//
CALSCALE:GREGORIAN
METHOD:PUBLISH
UID:73db4238-c5ec-423b-a918-1b1e0e98e569
X-WR-CALDESC:Weekly non-competitive bridge game
X-WR-RELCALID:c09f15d51fbfc2a3bcabe02dc94c3feb
X-WR-TIMEZONE:America/New_York
BEGIN:VTIMEZONE
TZID:America/New_York
BEGIN:STANDARD
TZNAME:EST
DTSTART:20241103T020000
TZOFFSETFROM:-0400
TZOFFSETTO:-0500
RDATE:20251102T020000
END:STANDARD
BEGIN:DAYLIGHT
TZNAME:EDT
DTSTART:20240310T020000
TZOFFSETFROM:-0500
TZOFFSETTO:-0400
RDATE:20250309T020000
RDATE:20260308T020000
END:DAYLIGHT
END:VTIMEZONE
BEGIN:VEVENT
UID:bf2c3f67-3e26-41c0-8d28-5972208dc49d
DTSTAMP:20260423T181752Z
DESCRIPTION:Weekly non-competitive bridge game
DTSTART;TZID=America/New_York:20241220T140000
DTEND;TZID=America/New_York:20241220T163000
LOCATION:
SUMMARY:Leisure Games Bridge (In Center)
END:VEVENT
END:VCALENDAR
