BEGIN:VCALENDAR
VERSION:2.0
PRODID:-//rssny.org//NONSGML kigkonsult.se iCalcreator 2.30.10//
CALSCALE:GREGORIAN
METHOD:PUBLISH
UID:e3523bac-fad2-47ea-ace4-ca5e60f8c63d
X-WR-CALDESC:
X-WR-RELCALID:99d89a1bbc61b37549c4ce514d83473d
X-WR-TIMEZONE:America/New_York
BEGIN:VTIMEZONE
TZID:America/New_York
BEGIN:STANDARD
TZNAME:EST
DTSTART:20241103T020000
TZOFFSETFROM:-0400
TZOFFSETTO:-0500
RDATE:20251102T020000
END:STANDARD
BEGIN:DAYLIGHT
TZNAME:EDT
DTSTART:20240310T020000
TZOFFSETFROM:-0500
TZOFFSETTO:-0400
RDATE:20250309T020000
RDATE:20260308T020000
END:DAYLIGHT
END:VTIMEZONE
BEGIN:VEVENT
UID:6eb9f08a-6acf-4745-8db7-175b6c190ba9
DTSTAMP:20260423T181905Z
DESCRIPTION:
DTSTART;TZID=America/New_York:20241218T130000
DTEND;TZID=America/New_York:20241218T140000
LOCATION:
SUMMARY:Concerts in Motion: Chinese (This is not an RSS event)
END:VEVENT
END:VCALENDAR
