BEGIN:VCALENDAR
VERSION:2.0
PRODID:-//rssny.org//NONSGML kigkonsult.se iCalcreator 2.30.10//
CALSCALE:GREGORIAN
METHOD:PUBLISH
UID:a9ae9d6d-bdef-41e5-be07-70de355b373f
X-WR-CALDESC:
X-WR-RELCALID:3aacd0a7a220b4764b3fe8c44c5743b4
X-WR-TIMEZONE:America/New_York
BEGIN:VTIMEZONE
TZID:America/New_York
BEGIN:STANDARD
TZNAME:EST
DTSTART:20241103T020000
TZOFFSETFROM:-0400
TZOFFSETTO:-0500
RDATE:20251102T020000
END:STANDARD
BEGIN:DAYLIGHT
TZNAME:EDT
DTSTART:20240310T020000
TZOFFSETFROM:-0500
TZOFFSETTO:-0400
RDATE:20250309T020000
RDATE:20260308T020000
END:DAYLIGHT
END:VTIMEZONE
BEGIN:VEVENT
UID:b438ad17-5f23-4657-8ea7-96edcc9528cd
DTSTAMP:20260423T181905Z
DESCRIPTION:
DTSTART;TZID=America/New_York:20241218T120000
DTEND;TZID=America/New_York:20241218T130000
LOCATION:
SUMMARY:Lunch (In Center) BIRTHDAY PARTY
END:VEVENT
END:VCALENDAR
