BEGIN:VCALENDAR
VERSION:2.0
PRODID:-//rssny.org//NONSGML kigkonsult.se iCalcreator 2.30.10//
CALSCALE:GREGORIAN
METHOD:PUBLISH
UID:9aa1b088-64f9-401e-ae6b-a106693b8515
X-WR-CALDESC:Register here - https://rssny.org/class-forms/concerts-in-moti
 on.html\n\nListen to wonderful Motown music led by professional musicians.
  Great way to head into the weekend!
X-WR-RELCALID:9852f2d4bf053df9da03c13f70badbe9
X-WR-TIMEZONE:America/New_York
BEGIN:VTIMEZONE
TZID:America/New_York
BEGIN:STANDARD
TZNAME:EST
DTSTART:20241103T020000
TZOFFSETFROM:-0400
TZOFFSETTO:-0500
RDATE:20251102T020000
END:STANDARD
BEGIN:DAYLIGHT
TZNAME:EDT
DTSTART:20240310T020000
TZOFFSETFROM:-0500
TZOFFSETTO:-0400
RDATE:20250309T020000
RDATE:20260308T020000
END:DAYLIGHT
END:VTIMEZONE
BEGIN:VEVENT
UID:d355e6e5-1ca7-401c-9bc7-568134660ce3
DTSTAMP:20260423T182506Z
DESCRIPTION:Register here - https://rssny.org/class-forms/concerts-in-motio
 n.html\n\nListen to wonderful Motown music led by professional musicians. 
 Great way to head into the weekend!
DTSTART;TZID=America/New_York:20241213T140000
DTEND;TZID=America/New_York:20241213T150000
LOCATION:https://rssny.org/class-forms/concerts-in-motion.html
SUMMARY:Concerts in Motion: Celebration Fridays (ONLINE - This is not an RS
 S event)
END:VEVENT
END:VCALENDAR
