BEGIN:VCALENDAR
VERSION:2.0
PRODID:-//rssny.org//NONSGML kigkonsult.se iCalcreator 2.30.10//
CALSCALE:GREGORIAN
METHOD:PUBLISH
UID:f01c323a-86aa-4d04-a9c4-629ba84b1fbe
X-WR-CALDESC:Space is limited. \n\nIf interested\, contact Social Work Inte
 rn: Jane Matluck\, Social Work\, intern\nCall: 718-884-5900\nEmail: jmatlu
 ck@rssny.org
X-WR-RELCALID:4384cfdccdededbd62019a453b79f013
X-WR-TIMEZONE:America/New_York
BEGIN:VTIMEZONE
TZID:America/New_York
BEGIN:STANDARD
TZNAME:EST
DTSTART:20241103T020000
TZOFFSETFROM:-0400
TZOFFSETTO:-0500
RDATE:20251102T020000
END:STANDARD
BEGIN:DAYLIGHT
TZNAME:EDT
DTSTART:20240310T020000
TZOFFSETFROM:-0500
TZOFFSETTO:-0400
RDATE:20250309T020000
RDATE:20260308T020000
END:DAYLIGHT
END:VTIMEZONE
BEGIN:VEVENT
UID:e1d546e4-bd02-4626-925a-141a1b92ba39
DTSTAMP:20260423T182506Z
DESCRIPTION:Space is limited. \n\nIf interested\, contact Social Work Inter
 n: Jane Matluck\, Social Work\, intern\nCall: 718-884-5900\nEmail: jmatluc
 k@rssny.org
DTSTART;TZID=America/New_York:20241211T150000
DTEND;TZID=America/New_York:20241211T160000
LOCATION:
SUMMARY:Grief Group: Loss of Child (In-Center only)
END:VEVENT
END:VCALENDAR
