BEGIN:VCALENDAR
VERSION:2.0
PRODID:-//rssny.org//NONSGML kigkonsult.se iCalcreator 2.30.10//
CALSCALE:GREGORIAN
METHOD:PUBLISH
UID:bfd16375-8f9b-4fdc-a8b1-9906a44128af
X-WR-CALDESC:Join chorus and sing with the remarkable soprano Cheryl Warfie
 ld. Listen to her beautiful voice here - https://youtu.be/7stskbP6qa0\n\nY
 ou will get the joy of singing and the opportunity to learn not only from 
 a great singer\, but an accomplished teacher as well.\n\nLearn more about 
 Cheryl by going to her website - https://www.cherylwarfield.nyc/
X-WR-RELCALID:9d1c69c5157a5d19aff2c5eac80ced14
X-WR-TIMEZONE:America/New_York
BEGIN:VTIMEZONE
TZID:America/New_York
BEGIN:STANDARD
TZNAME:EST
DTSTART:20241103T020000
TZOFFSETFROM:-0400
TZOFFSETTO:-0500
RDATE:20251102T020000
END:STANDARD
BEGIN:DAYLIGHT
TZNAME:EDT
DTSTART:20240310T020000
TZOFFSETFROM:-0500
TZOFFSETTO:-0400
RDATE:20250309T020000
RDATE:20260308T020000
END:DAYLIGHT
END:VTIMEZONE
BEGIN:VEVENT
UID:1607da31-0c52-416d-8e36-0fba6fce58c1
DTSTAMP:20260423T181649Z
DESCRIPTION:Join chorus and sing with the remarkable soprano Cheryl Warfiel
 d. Listen to her beautiful voice here - https://youtu.be/7stskbP6qa0\n\nYo
 u will get the joy of singing and the opportunity to learn not only from a
  great singer\, but an accomplished teacher as well.\n\nLearn more about C
 heryl by going to her website - https://www.cherylwarfield.nyc/
DTSTART;TZID=America/New_York:20241205T130000
DTEND;TZID=America/New_York:20241205T140000
LOCATION:
SUMMARY:Chorus with Cheryl (IN CENTER)
END:VEVENT
END:VCALENDAR
