BEGIN:VCALENDAR
VERSION:2.0
PRODID:-//rssny.org//NONSGML kigkonsult.se iCalcreator 2.30.10//
CALSCALE:GREGORIAN
METHOD:PUBLISH
UID:600a4b93-6a6d-469d-abb4-44398a7c0bf6
X-WR-CALDESC:André Rieu\, Dutch violinist and conductor\, best known for cr
 eating the waltz-playing Johann Strauss Orchestra.\n\n\n\n
X-WR-RELCALID:d5435540dd0c749bc95dfbbd5ebb30f7
X-WR-TIMEZONE:America/New_York
BEGIN:VTIMEZONE
TZID:America/New_York
BEGIN:STANDARD
TZNAME:EST
DTSTART:20241103T020000
TZOFFSETFROM:-0400
TZOFFSETTO:-0500
RDATE:20251102T020000
END:STANDARD
BEGIN:DAYLIGHT
TZNAME:EDT
DTSTART:20240310T020000
TZOFFSETFROM:-0500
TZOFFSETTO:-0400
RDATE:20250309T020000
RDATE:20260308T020000
END:DAYLIGHT
END:VTIMEZONE
BEGIN:VEVENT
UID:f8ad0815-d8f9-44b7-8876-835d216ecb42
DTSTAMP:20260423T181906Z
DESCRIPTION:André Rieu\, Dutch violinist and conductor\, best known for cre
 ating the waltz-playing Johann Strauss Orchestra.\n\n\n\n
DTSTART;TZID=America/New_York:20241201T160000
DTEND;TZID=America/New_York:20241201T171500
LOCATION:https://rssny.org/music_appreciation.html
SUMMARY:Music Appreciation with Diana (ONLINE)
END:VEVENT
END:VCALENDAR
