BEGIN:VCALENDAR
VERSION:2.0
PRODID:-//rssny.org//NONSGML kigkonsult.se iCalcreator 2.30.10//
CALSCALE:GREGORIAN
METHOD:PUBLISH
UID:9dd75c7c-1ca6-48e5-8cd3-9d7e82b708cf
X-WR-CALDESC:
X-WR-RELCALID:085250f2eb5cbca2867af68d5ebc7eaa
X-WR-TIMEZONE:America/New_York
BEGIN:VTIMEZONE
TZID:America/New_York
BEGIN:STANDARD
TZNAME:EST
DTSTART:20241103T020000
TZOFFSETFROM:-0400
TZOFFSETTO:-0500
RDATE:20251102T020000
END:STANDARD
BEGIN:DAYLIGHT
TZNAME:EDT
DTSTART:20240310T020000
TZOFFSETFROM:-0500
TZOFFSETTO:-0400
RDATE:20250309T020000
RDATE:20260308T020000
END:DAYLIGHT
END:VTIMEZONE
BEGIN:VEVENT
UID:38c86eb9-354f-4251-a55f-82d279e13839
DTSTAMP:20260423T194037Z
DESCRIPTION:
DTSTART;TZID=America/New_York:20241129T060000
DTEND;TZID=America/New_York:20241129T060001
LOCATION:
SUMMARY:CENTER CLOSED- THANKSGIVING
END:VEVENT
END:VCALENDAR
