BEGIN:VCALENDAR
VERSION:2.0
PRODID:-//rssny.org//NONSGML kigkonsult.se iCalcreator 2.30.10//
CALSCALE:GREGORIAN
METHOD:PUBLISH
UID:32f3122a-f280-4ee4-9b25-6014d7eef21e
X-WR-CALDESC:
X-WR-RELCALID:8971ad8cd3a36a72c112a99708d67dfa
X-WR-TIMEZONE:America/New_York
BEGIN:VTIMEZONE
TZID:America/New_York
BEGIN:STANDARD
TZNAME:EST
DTSTART:20241103T020000
TZOFFSETFROM:-0400
TZOFFSETTO:-0500
RDATE:20251102T020000
END:STANDARD
BEGIN:DAYLIGHT
TZNAME:EDT
DTSTART:20240310T020000
TZOFFSETFROM:-0500
TZOFFSETTO:-0400
RDATE:20250309T020000
RDATE:20260308T020000
END:DAYLIGHT
END:VTIMEZONE
BEGIN:VEVENT
UID:b373ceb6-f1e7-4230-adb6-afbbbcb0a732
DTSTAMP:20260423T194037Z
DESCRIPTION:
DTSTART;TZID=America/New_York:20241128T060000
DTEND;TZID=America/New_York:20241128T060001
LOCATION:
SUMMARY:CENTER CLOSED - Thanksgiving
END:VEVENT
END:VCALENDAR
