BEGIN:VCALENDAR
VERSION:2.0
PRODID:-//rssny.org//NONSGML kigkonsult.se iCalcreator 2.30.10//
CALSCALE:GREGORIAN
METHOD:PUBLISH
UID:bda83d78-cdf6-4cb0-a92e-fe07454467eb
X-WR-CALDESC:Join us for breakfast at the Center!
X-WR-RELCALID:823f0caed4c7dd3625ac176d5ae8500d
X-WR-TIMEZONE:America/New_York
BEGIN:VTIMEZONE
TZID:America/New_York
BEGIN:STANDARD
TZNAME:EST
DTSTART:20241103T020000
TZOFFSETFROM:-0400
TZOFFSETTO:-0500
RDATE:20251102T020000
END:STANDARD
BEGIN:DAYLIGHT
TZNAME:EDT
DTSTART:20240310T020000
TZOFFSETFROM:-0500
TZOFFSETTO:-0400
RDATE:20250309T020000
RDATE:20260308T020000
END:DAYLIGHT
END:VTIMEZONE
BEGIN:VEVENT
UID:45257097-3531-48d3-9ee0-a835e90fe1a8
DTSTAMP:20260423T195544Z
DESCRIPTION:Join us for breakfast at the Center!
DTSTART;TZID=America/New_York:20241127T090000
DTEND;TZID=America/New_York:20241127T100000
LOCATION:
SUMMARY:Breakfast Club (In Center)
END:VEVENT
END:VCALENDAR
