BEGIN:VCALENDAR
VERSION:2.0
PRODID:-//rssny.org//NONSGML kigkonsult.se iCalcreator 2.30.10//
CALSCALE:GREGORIAN
METHOD:PUBLISH
UID:60c08489-5d63-4ce0-9a47-897efff0769f
X-WR-CALDESC:
X-WR-RELCALID:21f111de144d132d5102e60513c95890
X-WR-TIMEZONE:America/New_York
BEGIN:VTIMEZONE
TZID:America/New_York
BEGIN:STANDARD
TZNAME:EST
DTSTART:20241103T020000
TZOFFSETFROM:-0400
TZOFFSETTO:-0500
RDATE:20251102T020000
END:STANDARD
BEGIN:DAYLIGHT
TZNAME:EDT
DTSTART:20240310T020000
TZOFFSETFROM:-0500
TZOFFSETTO:-0400
RDATE:20250309T020000
RDATE:20260308T020000
END:DAYLIGHT
END:VTIMEZONE
BEGIN:VEVENT
UID:e85929f3-36cf-418d-aad1-c7a30918c116
DTSTAMP:20260423T194037Z
DESCRIPTION:
DTSTART;TZID=America/New_York:20241121T130000
DTEND;TZID=America/New_York:20241121T140000
LOCATION:
SUMMARY:Folk Dancing - IN CENTER
END:VEVENT
END:VCALENDAR
