BEGIN:VCALENDAR
VERSION:2.0
PRODID:-//rssny.org//NONSGML kigkonsult.se iCalcreator 2.30.10//
CALSCALE:GREGORIAN
METHOD:PUBLISH
UID:f9137d30-fd63-419a-8c72-ed75f334a8bc
X-WR-CALDESC:Space is limited. \n\nIf interested\, contact Social Work Inte
 rn: Jane Matluck\, Social Work\, intern\nCall: 718-884-5900\nEmail: jmatlu
 ck@rssny.org
X-WR-RELCALID:0244a9edf8a3f93277ede0c971b2c04c
X-WR-TIMEZONE:America/New_York
BEGIN:VTIMEZONE
TZID:America/New_York
BEGIN:STANDARD
TZNAME:EST
DTSTART:20241103T020000
TZOFFSETFROM:-0400
TZOFFSETTO:-0500
RDATE:20251102T020000
END:STANDARD
BEGIN:DAYLIGHT
TZNAME:EDT
DTSTART:20240310T020000
TZOFFSETFROM:-0500
TZOFFSETTO:-0400
RDATE:20250309T020000
RDATE:20260308T020000
END:DAYLIGHT
END:VTIMEZONE
BEGIN:VEVENT
UID:5924df7f-fcec-494d-b3b9-7e2d898bf3a7
DTSTAMP:20260423T200205Z
DESCRIPTION:Space is limited. \n\nIf interested\, contact Social Work Inter
 n: Jane Matluck\, Social Work\, intern\nCall: 718-884-5900\nEmail: jmatluc
 k@rssny.org
DTSTART;TZID=America/New_York:20241113T150000
DTEND;TZID=America/New_York:20241113T160000
LOCATION:
SUMMARY:Grief Group: Loss of Child (In-Center only)
END:VEVENT
END:VCALENDAR
