BEGIN:VCALENDAR
VERSION:2.0
PRODID:-//rssny.org//NONSGML kigkonsult.se iCalcreator 2.30.10//
CALSCALE:GREGORIAN
METHOD:PUBLISH
UID:b4bf1cfc-ce9e-411e-87ab-72e1bda436c2
X-WR-CALDESC:
X-WR-RELCALID:a692befe28a849c4fdcd6aa8c3b1d2c0
X-WR-TIMEZONE:America/New_York
BEGIN:VTIMEZONE
TZID:America/New_York
BEGIN:STANDARD
TZNAME:EST
DTSTART:20241103T020000
TZOFFSETFROM:-0400
TZOFFSETTO:-0500
RDATE:20251102T020000
END:STANDARD
BEGIN:DAYLIGHT
TZNAME:EDT
DTSTART:20240310T020000
TZOFFSETFROM:-0500
TZOFFSETTO:-0400
RDATE:20250309T020000
RDATE:20260308T020000
END:DAYLIGHT
END:VTIMEZONE
BEGIN:VEVENT
UID:188a9f04-92eb-4864-b9f2-11c823b2b991
DTSTAMP:20260423T194848Z
DESCRIPTION:
DTSTART;TZID=America/New_York:20241113T130000
DTEND;TZID=America/New_York:20241113T150000
LOCATION:
SUMMARY:Movies In Center
END:VEVENT
END:VCALENDAR
