BEGIN:VCALENDAR
VERSION:2.0
PRODID:-//rssny.org//NONSGML kigkonsult.se iCalcreator 2.30.10//
CALSCALE:GREGORIAN
METHOD:PUBLISH
UID:c5c17eb9-78c1-413d-9433-d2dac35e9b38
X-WR-CALDESC:Join us for breakfast at the Center!
X-WR-RELCALID:12e67578550e955f70ffc20ef49f4a10
X-WR-TIMEZONE:America/New_York
BEGIN:VTIMEZONE
TZID:America/New_York
BEGIN:STANDARD
TZNAME:EST
DTSTART:20241103T020000
TZOFFSETFROM:-0400
TZOFFSETTO:-0500
RDATE:20251102T020000
END:STANDARD
BEGIN:DAYLIGHT
TZNAME:EDT
DTSTART:20240310T020000
TZOFFSETFROM:-0500
TZOFFSETTO:-0400
RDATE:20250309T020000
RDATE:20260308T020000
END:DAYLIGHT
END:VTIMEZONE
BEGIN:VEVENT
UID:9e3b7827-3177-45d5-8a50-3675440abd13
DTSTAMP:20260423T194849Z
DESCRIPTION:Join us for breakfast at the Center!
DTSTART;TZID=America/New_York:20241113T090000
DTEND;TZID=America/New_York:20241113T100000
LOCATION:
SUMMARY:Breakfast Club (In Center)
END:VEVENT
END:VCALENDAR
