BEGIN:VCALENDAR
VERSION:2.0
PRODID:-//rssny.org//NONSGML kigkonsult.se iCalcreator 2.30.10//
CALSCALE:GREGORIAN
METHOD:PUBLISH
UID:c9bf5b7d-9688-4452-9093-581539a8d371
X-WR-CALDESC:
X-WR-RELCALID:e19e06b24b061cc6dc8a60f0f7240fd5
X-WR-TIMEZONE:America/New_York
BEGIN:VTIMEZONE
TZID:America/New_York
BEGIN:STANDARD
TZNAME:EST
DTSTART:20241103T020000
TZOFFSETFROM:-0400
TZOFFSETTO:-0500
RDATE:20251102T020000
END:STANDARD
BEGIN:DAYLIGHT
TZNAME:EDT
DTSTART:20240310T020000
TZOFFSETFROM:-0500
TZOFFSETTO:-0400
RDATE:20250309T020000
RDATE:20260308T020000
END:DAYLIGHT
END:VTIMEZONE
BEGIN:VEVENT
UID:fac80c6b-9acf-4092-ab8e-59cb9e059483
DTSTAMP:20260423T200313Z
DESCRIPTION:
DTSTART;TZID=America/New_York:20241112T090000
DTEND;TZID=America/New_York:20241112T110000
LOCATION:At KHCC\, 3101 Kingsbridge Terrace
SUMMARY:Blood Pressure Screenings and Assessements with Nurse Jennifer at K
 HCC (Kingsbridge Heights Community Center)
END:VEVENT
END:VCALENDAR
