BEGIN:VCALENDAR
VERSION:2.0
PRODID:-//rssny.org//NONSGML kigkonsult.se iCalcreator 2.30.10//
CALSCALE:GREGORIAN
METHOD:PUBLISH
UID:29861e89-f513-4479-a34e-94d773af2b84
X-WR-CALDESC:To register: https://rssny.org/class-forms/chorus-with-cheryl.
 html\n\nJoin chorus and sing with the remarkable soprano Cheryl Warfield. 
 Listen to her beautiful voice here - https://youtu.be/7stskbP6qa0\n\nYou w
 ill get the joy of singing and the opportunity to learn not only from a gr
 eat singer\, but an accomplished teacher as well.\n\nLearn more about Cher
 yl by going to her website - https://www.cherylwarfield.nyc/
X-WR-RELCALID:9818338d497762dd8f8fe4262c3e09c6
X-WR-TIMEZONE:America/New_York
BEGIN:VTIMEZONE
TZID:America/New_York
BEGIN:STANDARD
TZNAME:EST
DTSTART:20241103T020000
TZOFFSETFROM:-0400
TZOFFSETTO:-0500
RDATE:20251102T020000
END:STANDARD
BEGIN:DAYLIGHT
TZNAME:EDT
DTSTART:20240310T020000
TZOFFSETFROM:-0500
TZOFFSETTO:-0400
RDATE:20250309T020000
RDATE:20260308T020000
END:DAYLIGHT
END:VTIMEZONE
BEGIN:VEVENT
UID:83136e97-b6a8-4a49-b8eb-0c6d0bad5bd4
DTSTAMP:20260423T195321Z
DESCRIPTION:To register: https://rssny.org/class-forms/chorus-with-cheryl.h
 tml\n\nJoin chorus and sing with the remarkable soprano Cheryl Warfield. L
 isten to her beautiful voice here - https://youtu.be/7stskbP6qa0\n\nYou wi
 ll get the joy of singing and the opportunity to learn not only from a gre
 at singer\, but an accomplished teacher as well.\n\nLearn more about Chery
 l by going to her website - https://www.cherylwarfield.nyc/
DTSTART;TZID=America/New_York:20241107T130000
DTEND;TZID=America/New_York:20241107T140000
LOCATION:https://rssny.org/class-forms/chorus-with-cheryl.html
SUMMARY:Chorus with Cheryl (Hybrid - I)
END:VEVENT
END:VCALENDAR
