BEGIN:VCALENDAR
VERSION:2.0
PRODID:-//rssny.org//NONSGML kigkonsult.se iCalcreator 2.30.10//
CALSCALE:GREGORIAN
METHOD:PUBLISH
UID:2afe3637-39a7-45e6-a01c-cfbf8f1720e7
X-WR-CALDESC:
X-WR-RELCALID:022b8fd72dc20760123518086c8d6e24
X-WR-TIMEZONE:America/New_York
BEGIN:VTIMEZONE
TZID:America/New_York
BEGIN:STANDARD
TZNAME:EST
DTSTART:20231105T020000
TZOFFSETFROM:-0400
TZOFFSETTO:-0500
RDATE:20241103T020000
RDATE:20251102T020000
END:STANDARD
BEGIN:DAYLIGHT
TZNAME:EDT
DTSTART:20240310T020000
TZOFFSETFROM:-0500
TZOFFSETTO:-0400
RDATE:20250309T020000
RDATE:20260308T020000
END:DAYLIGHT
END:VTIMEZONE
BEGIN:VEVENT
UID:945275fd-855d-4051-8292-0988cc2997ba
DTSTAMP:20260424T144630Z
DESCRIPTION:
DTSTART;TZID=America/New_York:20241031T130000
DTEND;TZID=America/New_York:20241031T150000
LOCATION:
SUMMARY:Movie: Cocoa
END:VEVENT
END:VCALENDAR
