BEGIN:VCALENDAR
VERSION:2.0
PRODID:-//rssny.org//NONSGML kigkonsult.se iCalcreator 2.30.10//
CALSCALE:GREGORIAN
METHOD:PUBLISH
UID:0cc97ac2-2bde-4669-b9a7-1b18a09ad05d
X-WR-CALDESC:This class is online.\nLevel: Beginner\n\n\nThis session is le
 d by Tabitha Rosa\, Virtual Programs Coordinator and Tech Specialist.
X-WR-RELCALID:da4949e47cb4a60286b2b028b63f4823
X-WR-TIMEZONE:America/New_York
BEGIN:VTIMEZONE
TZID:America/New_York
BEGIN:STANDARD
TZNAME:EST
DTSTART:20231105T020000
TZOFFSETFROM:-0400
TZOFFSETTO:-0500
RDATE:20241103T020000
RDATE:20251102T020000
END:STANDARD
BEGIN:DAYLIGHT
TZNAME:EDT
DTSTART:20240310T020000
TZOFFSETFROM:-0500
TZOFFSETTO:-0400
RDATE:20250309T020000
RDATE:20260308T020000
END:DAYLIGHT
END:VTIMEZONE
BEGIN:VEVENT
UID:7dd50960-9ccf-4c27-9f67-186b2d9347c9
DTSTAMP:20260424T144401Z
DESCRIPTION:This class is online.\nLevel: Beginner\n\n\nThis session is led
  by Tabitha Rosa\, Virtual Programs Coordinator and Tech Specialist.
DTSTART;TZID=America/New_York:20241031T110000
DTEND;TZID=America/New_York:20241031T120000
LOCATION:https://rssny.org/class-forms/technology-classes.html
SUMMARY:NO CLASS TODAY Tech How-To's: (ONLINE)
END:VEVENT
END:VCALENDAR
