BEGIN:VCALENDAR
VERSION:2.0
PRODID:-//rssny.org//NONSGML kigkonsult.se iCalcreator 2.30.10//
CALSCALE:GREGORIAN
METHOD:PUBLISH
UID:f5378ee5-1b96-4def-84a5-1f0538c2a3a2
X-WR-CALDESC:
X-WR-RELCALID:77400a95bacc397b885b8815f487c136
X-WR-TIMEZONE:America/New_York
BEGIN:VTIMEZONE
TZID:America/New_York
BEGIN:STANDARD
TZNAME:EST
DTSTART:20231105T020000
TZOFFSETFROM:-0400
TZOFFSETTO:-0500
RDATE:20241103T020000
RDATE:20251102T020000
END:STANDARD
BEGIN:DAYLIGHT
TZNAME:EDT
DTSTART:20240310T020000
TZOFFSETFROM:-0500
TZOFFSETTO:-0400
RDATE:20250309T020000
RDATE:20260308T020000
END:DAYLIGHT
END:VTIMEZONE
BEGIN:VEVENT
UID:8bc413f1-1230-455d-8b3e-e19e92da2df7
DTSTAMP:20260423T211059Z
DESCRIPTION:
DTSTART;TZID=America/New_York:20241029T090000
DTEND;TZID=America/New_York:20241029T110000
LOCATION:At KHCC\, 3101 Kingsbridge Terrace\, Contact Isael Tejeda\, Phone 
 #: 917.636.4622\, Email: ITejeda@rssny.org
SUMMARY:Diabetes Workshop 1 at KHCC: Introduction to Diabetes (Copy)
END:VEVENT
END:VCALENDAR
