BEGIN:VCALENDAR
VERSION:2.0
PRODID:-//rssny.org//NONSGML kigkonsult.se iCalcreator 2.30.10//
CALSCALE:GREGORIAN
METHOD:PUBLISH
UID:98c5db18-e121-4cf2-ac73-18cfcd1d3e2a
X-WR-CALDESC:
X-WR-RELCALID:6e89f63921c216e76bd935a2a483a757
X-WR-TIMEZONE:America/New_York
BEGIN:VTIMEZONE
TZID:America/New_York
BEGIN:STANDARD
TZNAME:EST
DTSTART:20231105T020000
TZOFFSETFROM:-0400
TZOFFSETTO:-0500
RDATE:20241103T020000
RDATE:20251102T020000
END:STANDARD
BEGIN:DAYLIGHT
TZNAME:EDT
DTSTART:20240310T020000
TZOFFSETFROM:-0500
TZOFFSETTO:-0400
RDATE:20250309T020000
RDATE:20260308T020000
END:DAYLIGHT
END:VTIMEZONE
BEGIN:VEVENT
UID:cc7acf32-0013-42ba-9d56-92fbe04f69cb
DTSTAMP:20260423T210845Z
DESCRIPTION:
DTSTART;TZID=America/New_York:20241029T100000
DTEND;TZID=America/New_York:20241029T110000
LOCATION:
SUMMARY:Memoir Writing with Donald
END:VEVENT
END:VCALENDAR
