BEGIN:VCALENDAR
VERSION:2.0
PRODID:-//rssny.org//NONSGML kigkonsult.se iCalcreator 2.30.10//
CALSCALE:GREGORIAN
METHOD:PUBLISH
UID:010df8b5-6fc5-4084-8ca8-02087cc49f38
X-WR-CALDESC:This class is in the center.\nLevel: Beginner\n\n\nThe session
  is led by Tabitha Rosa\, the RSS Tech Specialist and Virtual Programs Coo
 rdinator.
X-WR-RELCALID:74075e495521b6ebbe1e1bb7c560bf0a
X-WR-TIMEZONE:America/New_York
BEGIN:VTIMEZONE
TZID:America/New_York
BEGIN:STANDARD
TZNAME:EST
DTSTART:20231105T020000
TZOFFSETFROM:-0400
TZOFFSETTO:-0500
RDATE:20241103T020000
RDATE:20251102T020000
END:STANDARD
BEGIN:DAYLIGHT
TZNAME:EDT
DTSTART:20240310T020000
TZOFFSETFROM:-0500
TZOFFSETTO:-0400
RDATE:20250309T020000
RDATE:20260308T020000
END:DAYLIGHT
END:VTIMEZONE
BEGIN:VEVENT
UID:8c216bfc-2ef2-468c-ac89-a7831a37cb18
DTSTAMP:20260423T211059Z
DESCRIPTION:This class is in the center.\nLevel: Beginner\n\n\nThe session 
 is led by Tabitha Rosa\, the RSS Tech Specialist and Virtual Programs Coor
 dinator.
DTSTART;TZID=America/New_York:20241022T110000
DTEND;TZID=America/New_York:20241022T120000
LOCATION:
SUMMARY:Tech How-To's: Review(IN CENTER)
END:VEVENT
END:VCALENDAR
