BEGIN:VCALENDAR
VERSION:2.0
PRODID:-//rssny.org//NONSGML kigkonsult.se iCalcreator 2.30.10//
CALSCALE:GREGORIAN
METHOD:PUBLISH
UID:a955fc63-eeb8-4297-8262-1c3484407826
X-WR-CALDESC:TO REGISTER: https://rssny.org/trivia.html   Register ONE TIME
  ONLY\n\n\nCome and enjoy trivia and brain games with Maritza.\n\nNOTES:\n
 *  This class is weekly. We will let you know if it is not happening.\n* Y
 ou only need to register ONCE for this class. You will be sent links weekl
 y.\n*  You MUST register for the class. Please do not forward the link.
X-WR-RELCALID:e4811af9c9aa2dfaf298cdedc8046b8d
X-WR-TIMEZONE:America/New_York
BEGIN:VTIMEZONE
TZID:America/New_York
BEGIN:STANDARD
TZNAME:EST
DTSTART:20231105T020000
TZOFFSETFROM:-0400
TZOFFSETTO:-0500
RDATE:20241103T020000
RDATE:20251102T020000
END:STANDARD
BEGIN:DAYLIGHT
TZNAME:EDT
DTSTART:20240310T020000
TZOFFSETFROM:-0500
TZOFFSETTO:-0400
RDATE:20250309T020000
RDATE:20260308T020000
END:DAYLIGHT
END:VTIMEZONE
BEGIN:VEVENT
UID:6908082f-e707-400c-a407-dddd12c449ce
DTSTAMP:20260424T144250Z
DESCRIPTION:TO REGISTER: https://rssny.org/trivia.html   Register ONE TIME 
 ONLY\n\n\nCome and enjoy trivia and brain games with Maritza.\n\nNOTES:\n*
   This class is weekly. We will let you know if it is not happening.\n* Yo
 u only need to register ONCE for this class. You will be sent links weekly
 .\n*  You MUST register for the class. Please do not forward the link.
DTSTART;TZID=America/New_York:20241015T110000
DTEND;TZID=America/New_York:20241015T120000
LOCATION:https://rssny.org/trivia.html
SUMMARY:Brain Boosters with Maritza (HYBRID)
END:VEVENT
END:VCALENDAR
