BEGIN:VCALENDAR
VERSION:2.0
PRODID:-//rssny.org//NONSGML kigkonsult.se iCalcreator 2.30.10//
CALSCALE:GREGORIAN
METHOD:PUBLISH
UID:955e2947-8b77-43db-90d8-bcd605f430fe
X-WR-CALDESC:
X-WR-RELCALID:7ce53fb1c180e2cb8c80c40b76441fbd
X-WR-TIMEZONE:America/New_York
BEGIN:VTIMEZONE
TZID:America/New_York
BEGIN:STANDARD
TZNAME:EST
DTSTART:20231105T020000
TZOFFSETFROM:-0400
TZOFFSETTO:-0500
RDATE:20241103T020000
RDATE:20251102T020000
END:STANDARD
BEGIN:DAYLIGHT
TZNAME:EDT
DTSTART:20240310T020000
TZOFFSETFROM:-0500
TZOFFSETTO:-0400
RDATE:20250309T020000
RDATE:20260308T020000
END:DAYLIGHT
END:VTIMEZONE
BEGIN:VEVENT
UID:af8aca24-a369-4778-9222-e64f054432d4
DTSTAMP:20260424T174656Z
DESCRIPTION:
DTSTART;TZID=America/New_York:20241009T120000
DTEND;TZID=America/New_York:20241009T130000
LOCATION:
SUMMARY:Lunch (In Center)
END:VEVENT
END:VCALENDAR
