BEGIN:VCALENDAR
VERSION:2.0
PRODID:-//rssny.org//NONSGML kigkonsult.se iCalcreator 2.30.10//
CALSCALE:GREGORIAN
METHOD:PUBLISH
UID:19c52d44-78ae-47dc-a780-8dc813309353
X-WR-CALDESC:Join us for breakfast at the Center!
X-WR-RELCALID:3ba0091914b8ed6f6bb37955a6e6f82d
X-WR-TIMEZONE:America/New_York
BEGIN:VTIMEZONE
TZID:America/New_York
BEGIN:STANDARD
TZNAME:EST
DTSTART:20231105T020000
TZOFFSETFROM:-0400
TZOFFSETTO:-0500
RDATE:20241103T020000
RDATE:20251102T020000
END:STANDARD
BEGIN:DAYLIGHT
TZNAME:EDT
DTSTART:20240310T020000
TZOFFSETFROM:-0500
TZOFFSETTO:-0400
RDATE:20250309T020000
RDATE:20260308T020000
END:DAYLIGHT
END:VTIMEZONE
BEGIN:VEVENT
UID:fc5f4953-029c-4b06-82ae-15ad918f9173
DTSTAMP:20260423T211006Z
DESCRIPTION:Join us for breakfast at the Center!
DTSTART;TZID=America/New_York:20241002T090000
DTEND;TZID=America/New_York:20241002T100000
LOCATION:
SUMMARY:Breakfast Club (In Center)
END:VEVENT
END:VCALENDAR
