BEGIN:VCALENDAR
VERSION:2.0
PRODID:-//rssny.org//NONSGML kigkonsult.se iCalcreator 2.30.10//
CALSCALE:GREGORIAN
METHOD:PUBLISH
UID:e7128500-cd11-4e16-95d2-beeb2af4152b
X-WR-CALDESC:This class is in the center.\nLevel: Beginner\n\n\nThe session
  is led by Tabitha Rosa\, the RSS Tech Specialist and Virtual Programs Coo
 rdinator.
X-WR-RELCALID:22287a959765032eb527d56db97edc47
X-WR-TIMEZONE:America/New_York
BEGIN:VTIMEZONE
TZID:America/New_York
BEGIN:STANDARD
TZNAME:EST
DTSTART:20231105T020000
TZOFFSETFROM:-0400
TZOFFSETTO:-0500
RDATE:20241103T020000
RDATE:20251102T020000
END:STANDARD
BEGIN:DAYLIGHT
TZNAME:EDT
DTSTART:20240310T020000
TZOFFSETFROM:-0500
TZOFFSETTO:-0400
RDATE:20250309T020000
RDATE:20260308T020000
END:DAYLIGHT
END:VTIMEZONE
BEGIN:VEVENT
UID:2f7cfa17-689f-4cb5-a810-74ffa8d1758b
DTSTAMP:20260423T211013Z
DESCRIPTION:This class is in the center.\nLevel: Beginner\n\n\nThe session 
 is led by Tabitha Rosa\, the RSS Tech Specialist and Virtual Programs Coor
 dinator.
DTSTART;TZID=America/New_York:20241001T110000
DTEND;TZID=America/New_York:20241001T120000
LOCATION:
SUMMARY:Tech How-To's: Find My iPhone and Android Device  (IN CENTER)
END:VEVENT
END:VCALENDAR
