BEGIN:VCALENDAR
VERSION:2.0
PRODID:-//rssny.org//NONSGML kigkonsult.se iCalcreator 2.30.10//
CALSCALE:GREGORIAN
METHOD:PUBLISH
UID:7821c26d-d02a-44bc-8344-1e03ed2309c4
X-WR-CALDESC:TO REGISTER: Call 718.884.5900
X-WR-RELCALID:fcd743d8d862ebe47e270839cca316a6
X-WR-TIMEZONE:America/New_York
BEGIN:VTIMEZONE
TZID:America/New_York
BEGIN:STANDARD
TZNAME:EST
DTSTART:20231105T020000
TZOFFSETFROM:-0400
TZOFFSETTO:-0500
RDATE:20241103T020000
RDATE:20251102T020000
END:STANDARD
BEGIN:DAYLIGHT
TZNAME:EDT
DTSTART:20240310T020000
TZOFFSETFROM:-0500
TZOFFSETTO:-0400
RDATE:20250309T020000
RDATE:20260308T020000
END:DAYLIGHT
END:VTIMEZONE
BEGIN:VEVENT
UID:1e1dabe9-2b8f-40a0-9131-17cad24a2a75
DTSTAMP:20260424T162813Z
DESCRIPTION:TO REGISTER: Call 718.884.5900
DTSTART;TZID=America/New_York:20240926T130000
DTEND;TZID=America/New_York:20240926T140000
LOCATION:TO REGISTER: Call 718.884.5900
SUMMARY:IN PERSON: Crafting with Recyclables with Susan Guzman
END:VEVENT
END:VCALENDAR
