BEGIN:VCALENDAR
VERSION:2.0
PRODID:-//rssny.org//NONSGML kigkonsult.se iCalcreator 2.30.10//
CALSCALE:GREGORIAN
METHOD:PUBLISH
UID:f4e54edf-a05e-41d8-94c2-316e4e91aba8
X-WR-CALDESC:Register here - https://rssny.org/reopening-forms/collage.html
 \n\nUse all different kinds of media to create wonderful art pieces. Carol
  Frank is back leading a class in mixed media. Space is limited so please 
 register soon!
X-WR-RELCALID:f594563ced0c669b187c496df2f5dbd2
X-WR-TIMEZONE:America/New_York
BEGIN:VTIMEZONE
TZID:America/New_York
BEGIN:STANDARD
TZNAME:EST
DTSTART:20231105T020000
TZOFFSETFROM:-0400
TZOFFSETTO:-0500
RDATE:20241103T020000
RDATE:20251102T020000
END:STANDARD
BEGIN:DAYLIGHT
TZNAME:EDT
DTSTART:20240310T020000
TZOFFSETFROM:-0500
TZOFFSETTO:-0400
RDATE:20250309T020000
RDATE:20260308T020000
END:DAYLIGHT
END:VTIMEZONE
BEGIN:VEVENT
UID:b191762f-7949-4490-8f97-dcc9b9e37823
DTSTAMP:20260424T162615Z
DESCRIPTION:Register here - https://rssny.org/reopening-forms/collage.html
 \n\nUse all different kinds of media to create wonderful art pieces. Carol
  Frank is back leading a class in mixed media. Space is limited so please 
 register soon!
DTSTART;TZID=America/New_York:20240924T130000
DTEND;TZID=America/New_York:20240924T150000
LOCATION:https://rssny.org/reopening-forms/collage.html
SUMMARY:Collage with Annelen (In-Person)
END:VEVENT
END:VCALENDAR
