BEGIN:VCALENDAR
VERSION:2.0
PRODID:-//rssny.org//NONSGML kigkonsult.se iCalcreator 2.30.10//
CALSCALE:GREGORIAN
METHOD:PUBLISH
UID:d558d382-93f8-4efb-8e1f-7ddc6f59ab27
X-WR-CALDESC:
X-WR-RELCALID:1f7fc5c94a61debc0ad5a8bd5763fa3c
X-WR-TIMEZONE:America/New_York
BEGIN:VTIMEZONE
TZID:America/New_York
BEGIN:STANDARD
TZNAME:EST
DTSTART:20231105T020000
TZOFFSETFROM:-0400
TZOFFSETTO:-0500
RDATE:20241103T020000
RDATE:20251102T020000
END:STANDARD
BEGIN:DAYLIGHT
TZNAME:EDT
DTSTART:20240310T020000
TZOFFSETFROM:-0500
TZOFFSETTO:-0400
RDATE:20250309T020000
RDATE:20260308T020000
END:DAYLIGHT
END:VTIMEZONE
BEGIN:VEVENT
UID:5314eb12-c945-48a9-9c99-76312ce14078
DTSTAMP:20260424T162656Z
DESCRIPTION:
DTSTART;TZID=America/New_York:20240918T090000
DTEND;TZID=America/New_York:20240918T120000
LOCATION:
SUMMARY:End-Of-Summer Jewelry Sale
END:VEVENT
END:VCALENDAR
