BEGIN:VCALENDAR
VERSION:2.0
PRODID:-//rssny.org//NONSGML kigkonsult.se iCalcreator 2.30.10//
CALSCALE:GREGORIAN
METHOD:PUBLISH
UID:377f3119-4a15-4b1c-bf64-f5bda56c7ca6
X-WR-CALDESC:Join us for breakfast at the Center!
X-WR-RELCALID:341f833644ceaac89102eb9072a90ca2
X-WR-TIMEZONE:America/New_York
BEGIN:VTIMEZONE
TZID:America/New_York
BEGIN:STANDARD
TZNAME:EST
DTSTART:20231105T020000
TZOFFSETFROM:-0400
TZOFFSETTO:-0500
RDATE:20241103T020000
RDATE:20251102T020000
END:STANDARD
BEGIN:DAYLIGHT
TZNAME:EDT
DTSTART:20240310T020000
TZOFFSETFROM:-0500
TZOFFSETTO:-0400
RDATE:20250309T020000
RDATE:20260308T020000
END:DAYLIGHT
END:VTIMEZONE
BEGIN:VEVENT
UID:31c4ead3-1497-4c61-8bf1-038cc4f69f52
DTSTAMP:20260424T162635Z
DESCRIPTION:Join us for breakfast at the Center!
DTSTART;TZID=America/New_York:20240918T090000
DTEND;TZID=America/New_York:20240918T100000
LOCATION:
SUMMARY:Breakfast Club (In Center)
END:VEVENT
END:VCALENDAR
