BEGIN:VCALENDAR
VERSION:2.0
PRODID:-//rssny.org//NONSGML kigkonsult.se iCalcreator 2.30.10//
CALSCALE:GREGORIAN
METHOD:PUBLISH
UID:eadbe29f-c95f-4c79-8276-ae0d2d030caf
X-WR-CALDESC:Call 718.884.5900 if you are interested in joining.
X-WR-RELCALID:eb2eafedb0598448dd1445427e208613
X-WR-TIMEZONE:America/New_York
BEGIN:VTIMEZONE
TZID:America/New_York
BEGIN:STANDARD
TZNAME:EST
DTSTART:20231105T020000
TZOFFSETFROM:-0400
TZOFFSETTO:-0500
RDATE:20241103T020000
RDATE:20251102T020000
END:STANDARD
BEGIN:DAYLIGHT
TZNAME:EDT
DTSTART:20240310T020000
TZOFFSETFROM:-0500
TZOFFSETTO:-0400
RDATE:20250309T020000
RDATE:20260308T020000
END:DAYLIGHT
END:VTIMEZONE
BEGIN:VEVENT
UID:31cd6562-4cd1-4981-a692-eddba86350c7
DTSTAMP:20260424T162812Z
DESCRIPTION:Call 718.884.5900 if you are interested in joining.
DTSTART;TZID=America/New_York:20240916T100000
DTEND;TZID=America/New_York:20240916T110000
LOCATION:
SUMMARY:Leisure Games: Canasta\, Mah Jongg (IN CENTER)
END:VEVENT
END:VCALENDAR
