BEGIN:VCALENDAR
VERSION:2.0
PRODID:-//rssny.org//NONSGML kigkonsult.se iCalcreator 2.30.10//
CALSCALE:GREGORIAN
METHOD:PUBLISH
UID:59178d79-0500-46c3-9cbc-b61d8d2b2ec8
X-WR-CALDESC:This class is online.\nLevel: Beginner\n\n\nThis session is le
 d by Tabitha Rosa\, Virtual Programs Coordinator and Tech Specialist.
X-WR-RELCALID:afed81da8773175f02b187266fe8bc5b
X-WR-TIMEZONE:America/New_York
BEGIN:VTIMEZONE
TZID:America/New_York
BEGIN:STANDARD
TZNAME:EST
DTSTART:20231105T020000
TZOFFSETFROM:-0400
TZOFFSETTO:-0500
RDATE:20241103T020000
RDATE:20251102T020000
END:STANDARD
BEGIN:DAYLIGHT
TZNAME:EDT
DTSTART:20240310T020000
TZOFFSETFROM:-0500
TZOFFSETTO:-0400
RDATE:20250309T020000
END:DAYLIGHT
END:VTIMEZONE
BEGIN:VEVENT
UID:7584d420-99fd-41da-9711-368794d93e67
DTSTAMP:20260424T174447Z
DESCRIPTION:This class is online.\nLevel: Beginner\n\n\nThis session is led
  by Tabitha Rosa\, Virtual Programs Coordinator and Tech Specialist.
DTSTART;TZID=America/New_York:20240829T110000
DTEND;TZID=America/New_York:20240829T120000
LOCATION:https://rssny.org/class-forms/technology-classes.html
SUMMARY:Tech How-To's: (ONLINE)
END:VEVENT
END:VCALENDAR
