BEGIN:VCALENDAR
VERSION:2.0
PRODID:-//rssny.org//NONSGML kigkonsult.se iCalcreator 2.30.10//
CALSCALE:GREGORIAN
METHOD:PUBLISH
UID:8cba133c-2507-4b6d-b3b0-fa75821a76e2
X-WR-CALDESC:Join us for breakfast at the Center!
X-WR-RELCALID:ab6620f701a321bad1e0817fd0553b5a
X-WR-TIMEZONE:America/New_York
BEGIN:VTIMEZONE
TZID:America/New_York
BEGIN:STANDARD
TZNAME:EST
DTSTART:20231105T020000
TZOFFSETFROM:-0400
TZOFFSETTO:-0500
RDATE:20241103T020000
RDATE:20251102T020000
END:STANDARD
BEGIN:DAYLIGHT
TZNAME:EDT
DTSTART:20240310T020000
TZOFFSETFROM:-0500
TZOFFSETTO:-0400
RDATE:20250309T020000
END:DAYLIGHT
END:VTIMEZONE
BEGIN:VEVENT
UID:8f99056a-e727-4f98-ad9b-ee653d429d25
DTSTAMP:20260424T175151Z
DESCRIPTION:Join us for breakfast at the Center!
DTSTART;TZID=America/New_York:20240828T090000
DTEND;TZID=America/New_York:20240828T100000
LOCATION:
SUMMARY:Breakfast Club (In Center)
END:VEVENT
END:VCALENDAR
