BEGIN:VCALENDAR
VERSION:2.0
PRODID:-//rssny.org//NONSGML kigkonsult.se iCalcreator 2.30.10//
CALSCALE:GREGORIAN
METHOD:PUBLISH
UID:524a63c2-81a1-49dd-8dbb-c34ea847ed6b
X-WR-CALDESC:
X-WR-RELCALID:6af2dde1276d8ab3aea5c8cc94b1f905
X-WR-TIMEZONE:America/New_York
BEGIN:VTIMEZONE
TZID:America/New_York
BEGIN:STANDARD
TZNAME:EST
DTSTART:20231105T020000
TZOFFSETFROM:-0400
TZOFFSETTO:-0500
RDATE:20241103T020000
RDATE:20251102T020000
END:STANDARD
BEGIN:DAYLIGHT
TZNAME:EDT
DTSTART:20240310T020000
TZOFFSETFROM:-0500
TZOFFSETTO:-0400
RDATE:20250309T020000
END:DAYLIGHT
END:VTIMEZONE
BEGIN:VEVENT
UID:a0479aea-2ea1-4155-b969-23bbcfccb8f6
DTSTAMP:20260424T174328Z
DESCRIPTION:
DTSTART;TZID=America/New_York:20240822T110000
DTEND;TZID=America/New_York:20240822T120000
LOCATION:
SUMMARY:Folk Dancing - IN CENTER (Clone)
END:VEVENT
END:VCALENDAR
