BEGIN:VCALENDAR
VERSION:2.0
PRODID:-//rssny.org//NONSGML kigkonsult.se iCalcreator 2.30.10//
CALSCALE:GREGORIAN
METHOD:PUBLISH
UID:4a32d78a-6089-4305-9779-35a05287e47b
X-WR-CALDESC:
X-WR-RELCALID:86a7aa04e70f37b4e87f343518eedf83
X-WR-TIMEZONE:America/New_York
BEGIN:VTIMEZONE
TZID:America/New_York
BEGIN:STANDARD
TZNAME:EST
DTSTART:20231105T020000
TZOFFSETFROM:-0400
TZOFFSETTO:-0500
RDATE:20241103T020000
RDATE:20251102T020000
END:STANDARD
BEGIN:DAYLIGHT
TZNAME:EDT
DTSTART:20240310T020000
TZOFFSETFROM:-0500
TZOFFSETTO:-0400
RDATE:20250309T020000
END:DAYLIGHT
END:VTIMEZONE
BEGIN:VEVENT
UID:dae14e31-1ede-4cff-b1cb-c15ee48f9515
DTSTAMP:20260424T174921Z
DESCRIPTION:
DTSTART;TZID=America/New_York:20240819T130000
DTEND;TZID=America/New_York:20240819T143000
LOCATION:
SUMMARY:Mah Jongg with Marina (In Center)
END:VEVENT
END:VCALENDAR
