BEGIN:VCALENDAR
VERSION:2.0
PRODID:-//rssny.org//NONSGML kigkonsult.se iCalcreator 2.30.10//
CALSCALE:GREGORIAN
METHOD:PUBLISH
UID:69553f1c-e871-4340-bf4a-036ffb838209
X-WR-CALDESC:REGISTER HERE - https://rssny.org/class-forms/get-fit-with-stu
 art.html\n\nGet tone and fit with Stuart\, our exercise expert. Good for y
 ou whatever your level of fitness. A general fitness class that can be don
 e seated or standing. Try out this new class at RSS.
X-WR-RELCALID:167a28f9dba6da22322527df9d0675a1
X-WR-TIMEZONE:America/New_York
BEGIN:VTIMEZONE
TZID:America/New_York
BEGIN:STANDARD
TZNAME:EST
DTSTART:20231105T020000
TZOFFSETFROM:-0400
TZOFFSETTO:-0500
RDATE:20241103T020000
RDATE:20251102T020000
END:STANDARD
BEGIN:DAYLIGHT
TZNAME:EDT
DTSTART:20240310T020000
TZOFFSETFROM:-0500
TZOFFSETTO:-0400
RDATE:20250309T020000
END:DAYLIGHT
END:VTIMEZONE
BEGIN:VEVENT
UID:eb02d2df-b348-4545-92e6-4b4e5451c985
DTSTAMP:20260424T175327Z
DESCRIPTION:REGISTER HERE - https://rssny.org/class-forms/get-fit-with-stua
 rt.html\n\nGet tone and fit with Stuart\, our exercise expert. Good for yo
 u whatever your level of fitness. A general fitness class that can be done
  seated or standing. Try out this new class at RSS.
DTSTART;TZID=America/New_York:20240816T100000
DTEND;TZID=America/New_York:20240816T110000
LOCATION:https://rssny.org/class-forms/get-fit-with-stuart.html
SUMMARY:Get Fit with Stuart (ONLINE & IN CENTER)
END:VEVENT
END:VCALENDAR
