BEGIN:VCALENDAR
VERSION:2.0
PRODID:-//rssny.org//NONSGML kigkonsult.se iCalcreator 2.30.10//
CALSCALE:GREGORIAN
METHOD:PUBLISH
UID:4f4ce633-f375-4c63-acf8-48c226295b18
X-WR-CALDESC:To register: https://rssny.org/class-forms/montefiore.html\n\n
 Join us for a health talk from Montefiore.
X-WR-RELCALID:1e9cde3583f1de3914fd0808f97e97b8
X-WR-TIMEZONE:America/New_York
BEGIN:VTIMEZONE
TZID:America/New_York
BEGIN:STANDARD
TZNAME:EST
DTSTART:20231105T020000
TZOFFSETFROM:-0400
TZOFFSETTO:-0500
RDATE:20241103T020000
RDATE:20251102T020000
END:STANDARD
BEGIN:DAYLIGHT
TZNAME:EDT
DTSTART:20240310T020000
TZOFFSETFROM:-0500
TZOFFSETTO:-0400
RDATE:20250309T020000
END:DAYLIGHT
END:VTIMEZONE
BEGIN:VEVENT
UID:bc5736aa-600f-46a6-a292-1e2fdc928b34
DTSTAMP:20260424T175433Z
DESCRIPTION:To register: https://rssny.org/class-forms/montefiore.html\n\nJ
 oin us for a health talk from Montefiore.
DTSTART;TZID=America/New_York:20240815T130000
DTEND;TZID=America/New_York:20240815T140000
LOCATION:https://rssny.org/class-forms/montefiore.html
SUMMARY:Health Talk with Montefiore (Hybrid)
END:VEVENT
END:VCALENDAR
