BEGIN:VCALENDAR
VERSION:2.0
PRODID:-//rssny.org//NONSGML kigkonsult.se iCalcreator 2.30.10//
CALSCALE:GREGORIAN
METHOD:PUBLISH
UID:6e6c1672-94b3-4662-961e-fe5c7b608480
X-WR-CALDESC:
X-WR-RELCALID:bd95260440d033d04b8156aca4f71420
X-WR-TIMEZONE:America/New_York
BEGIN:VTIMEZONE
TZID:America/New_York
BEGIN:STANDARD
TZNAME:EST
DTSTART:20231105T020000
TZOFFSETFROM:-0400
TZOFFSETTO:-0500
RDATE:20241103T020000
RDATE:20251102T020000
END:STANDARD
BEGIN:DAYLIGHT
TZNAME:EDT
DTSTART:20240310T020000
TZOFFSETFROM:-0500
TZOFFSETTO:-0400
RDATE:20250309T020000
END:DAYLIGHT
END:VTIMEZONE
BEGIN:VEVENT
UID:d13b8c66-7e2c-4e36-9872-6c240feaa9ae
DTSTAMP:20260424T175024Z
DESCRIPTION:
DTSTART;TZID=America/New_York:20240814T130000
DTEND;TZID=America/New_York:20240814T150000
LOCATION:
SUMMARY:Leisure Games: Mah Jongg (In Center)
END:VEVENT
END:VCALENDAR
