BEGIN:VCALENDAR
VERSION:2.0
PRODID:-//rssny.org//NONSGML kigkonsult.se iCalcreator 2.30.10//
CALSCALE:GREGORIAN
METHOD:PUBLISH
UID:5f36406f-a808-4e99-a143-e9a6b077becf
X-WR-CALDESC:
X-WR-RELCALID:8f6de5c3c30093dcdaf4bcfa1dd457ef
X-WR-TIMEZONE:America/New_York
BEGIN:VTIMEZONE
TZID:America/New_York
BEGIN:STANDARD
TZNAME:EST
DTSTART:20231105T020000
TZOFFSETFROM:-0400
TZOFFSETTO:-0500
RDATE:20241103T020000
RDATE:20251102T020000
END:STANDARD
BEGIN:DAYLIGHT
TZNAME:EDT
DTSTART:20240310T020000
TZOFFSETFROM:-0500
TZOFFSETTO:-0400
RDATE:20250309T020000
END:DAYLIGHT
END:VTIMEZONE
BEGIN:VEVENT
UID:19c14940-4629-40ac-830a-c4fade4be43c
DTSTAMP:20260424T175112Z
DESCRIPTION:
DTSTART;TZID=America/New_York:20240813T100000
DTEND;TZID=America/New_York:20240813T110000
LOCATION:
SUMMARY:Memoir Writing with Donald
END:VEVENT
END:VCALENDAR
