BEGIN:VCALENDAR
VERSION:2.0
PRODID:-//rssny.org//NONSGML kigkonsult.se iCalcreator 2.30.10//
CALSCALE:GREGORIAN
METHOD:PUBLISH
UID:c611bc8b-db4e-426f-b3a2-b0f778a6e34f
X-WR-CALDESC:REGISTER Here - https://rssny.org/class-forms/qi-gong-with-bru
 ce.html\n\n.
X-WR-RELCALID:f92a717578451576eb0eba526ccb00b3
X-WR-TIMEZONE:America/New_York
BEGIN:VTIMEZONE
TZID:America/New_York
BEGIN:STANDARD
TZNAME:EST
DTSTART:20231105T020000
TZOFFSETFROM:-0400
TZOFFSETTO:-0500
RDATE:20241103T020000
RDATE:20251102T020000
END:STANDARD
BEGIN:DAYLIGHT
TZNAME:EDT
DTSTART:20240310T020000
TZOFFSETFROM:-0500
TZOFFSETTO:-0400
RDATE:20250309T020000
END:DAYLIGHT
END:VTIMEZONE
BEGIN:VEVENT
UID:42af7677-764e-4d49-9200-4b16a841538c
DTSTAMP:20260424T175327Z
DESCRIPTION:REGISTER Here - https://rssny.org/class-forms/qi-gong-with-bruc
 e.html\n\n.
DTSTART;TZID=America/New_York:20240806T100000
DTEND;TZID=America/New_York:20240806T110000
LOCATION:https://rssny.org/class-forms/qi-gong-with-bruce.html
SUMMARY:Qi Gong with Bruce (HYBRID)
END:VEVENT
END:VCALENDAR
