BEGIN:VCALENDAR
VERSION:2.0
PRODID:-//rssny.org//NONSGML kigkonsult.se iCalcreator 2.30.10//
CALSCALE:GREGORIAN
METHOD:PUBLISH
UID:f6bc68de-482f-4975-9ca5-099d94d94e56
X-WR-CALDESC:
X-WR-RELCALID:5bf9341bf37143cb32b381b38fd1da37
X-WR-TIMEZONE:America/New_York
BEGIN:VTIMEZONE
TZID:America/New_York
BEGIN:STANDARD
TZNAME:EST
DTSTART:20231105T020000
TZOFFSETFROM:-0400
TZOFFSETTO:-0500
RDATE:20241103T020000
RDATE:20251102T020000
END:STANDARD
BEGIN:DAYLIGHT
TZNAME:EDT
DTSTART:20240310T020000
TZOFFSETFROM:-0500
TZOFFSETTO:-0400
RDATE:20250309T020000
END:DAYLIGHT
END:VTIMEZONE
BEGIN:VEVENT
UID:20cf42f5-9265-43b6-b652-47cd148b6ec4
DTSTAMP:20260424T174921Z
DESCRIPTION:
DTSTART;TZID=America/New_York:20240805T130000
DTEND;TZID=America/New_York:20240805T143000
LOCATION:
SUMMARY:Mah Jongg with Marina (In Center)
END:VEVENT
END:VCALENDAR
