BEGIN:VCALENDAR
VERSION:2.0
PRODID:-//rssny.org//NONSGML kigkonsult.se iCalcreator 2.30.10//
CALSCALE:GREGORIAN
METHOD:PUBLISH
UID:401e3a67-f518-49f1-b2d2-bfaa59ff6e36
X-WR-CALDESC:Call 718.884.5900 if you are interested in joining.
X-WR-RELCALID:d87decdfaf242982a9da9f7cbf6341a9
X-WR-TIMEZONE:America/New_York
BEGIN:VTIMEZONE
TZID:America/New_York
BEGIN:STANDARD
TZNAME:EST
DTSTART:20231105T020000
TZOFFSETFROM:-0400
TZOFFSETTO:-0500
RDATE:20241103T020000
RDATE:20251102T020000
END:STANDARD
BEGIN:DAYLIGHT
TZNAME:EDT
DTSTART:20240310T020000
TZOFFSETFROM:-0500
TZOFFSETTO:-0400
RDATE:20250309T020000
END:DAYLIGHT
END:VTIMEZONE
BEGIN:VEVENT
UID:f7c6e851-c4dd-4e4f-96a3-acae70806e94
DTSTAMP:20260424T175839Z
DESCRIPTION:Call 718.884.5900 if you are interested in joining.
DTSTART;TZID=America/New_York:20240805T100000
DTEND;TZID=America/New_York:20240805T110000
LOCATION:
SUMMARY:Leisure Games: Canasta\, Mah Jongg (IN CENTER)
END:VEVENT
END:VCALENDAR
