BEGIN:VCALENDAR
VERSION:2.0
PRODID:-//rssny.org//NONSGML kigkonsult.se iCalcreator 2.30.10//
CALSCALE:GREGORIAN
METHOD:PUBLISH
UID:56288cc9-e645-4636-8196-cc3a5da0e15f
X-WR-CALDESC:
X-WR-RELCALID:a92e5556fda0051a60f1ebae3783ca1e
X-WR-TIMEZONE:America/New_York
BEGIN:VTIMEZONE
TZID:America/New_York
BEGIN:STANDARD
TZNAME:EST
DTSTART:20231105T020000
TZOFFSETFROM:-0400
TZOFFSETTO:-0500
RDATE:20241103T020000
RDATE:20251102T020000
END:STANDARD
BEGIN:DAYLIGHT
TZNAME:EDT
DTSTART:20240310T020000
TZOFFSETFROM:-0500
TZOFFSETTO:-0400
RDATE:20250309T020000
END:DAYLIGHT
END:VTIMEZONE
BEGIN:VEVENT
UID:fe87f73b-8b57-474b-95c3-23541473a674
DTSTAMP:20260424T175838Z
DESCRIPTION:
DTSTART;TZID=America/New_York:20240801T130000
DTEND;TZID=America/New_York:20240801T140000
LOCATION:
SUMMARY:CANCELLED  IN PERSON: Crafting with Recyclables with Susan Guzman
END:VEVENT
END:VCALENDAR
