BEGIN:VCALENDAR
VERSION:2.0
PRODID:-//rssny.org//NONSGML kigkonsult.se iCalcreator 2.30.10//
CALSCALE:GREGORIAN
METHOD:PUBLISH
UID:27072091-5b20-4fba-826c-6bdd62c9333f
X-WR-CALDESC:
X-WR-RELCALID:a232f6b228f9f49d2c22e01197d898fd
X-WR-TIMEZONE:America/New_York
BEGIN:VTIMEZONE
TZID:America/New_York
BEGIN:STANDARD
TZNAME:EST
DTSTART:20231105T020000
TZOFFSETFROM:-0400
TZOFFSETTO:-0500
RDATE:20241103T020000
RDATE:20251102T020000
END:STANDARD
BEGIN:DAYLIGHT
TZNAME:EDT
DTSTART:20240310T020000
TZOFFSETFROM:-0500
TZOFFSETTO:-0400
RDATE:20250309T020000
END:DAYLIGHT
END:VTIMEZONE
BEGIN:VEVENT
UID:f729ea08-d1f0-482b-a1d3-a242fd182a93
DTSTAMP:20260424T205810Z
DESCRIPTION:
DTSTART;TZID=America/New_York:20240729T130000
DTEND;TZID=America/New_York:20240729T143000
LOCATION:
SUMMARY:Mah Jongg with Marina (In Center)
END:VEVENT
END:VCALENDAR
