BEGIN:VCALENDAR
VERSION:2.0
PRODID:-//rssny.org//NONSGML kigkonsult.se iCalcreator 2.30.10//
CALSCALE:GREGORIAN
METHOD:PUBLISH
UID:0402d470-a2e1-4862-929e-c6fc4721173c
X-WR-CALDESC:To register: https://rssny.org/class-forms/montefiore.html\n\n
 Join us for a health talk from Montefiore.
X-WR-RELCALID:e9cdde19dd24bea3db76a85807d829e2
X-WR-TIMEZONE:America/New_York
BEGIN:VTIMEZONE
TZID:America/New_York
BEGIN:STANDARD
TZNAME:EST
DTSTART:20231105T020000
TZOFFSETFROM:-0400
TZOFFSETTO:-0500
RDATE:20241103T020000
RDATE:20251102T020000
END:STANDARD
BEGIN:DAYLIGHT
TZNAME:EDT
DTSTART:20240310T020000
TZOFFSETFROM:-0500
TZOFFSETTO:-0400
RDATE:20250309T020000
END:DAYLIGHT
END:VTIMEZONE
BEGIN:VEVENT
UID:34e232ba-b91a-47f7-b634-9ca996628ca3
DTSTAMP:20260424T205810Z
DESCRIPTION:To register: https://rssny.org/class-forms/montefiore.html\n\nJ
 oin us for a health talk from Montefiore.
DTSTART;TZID=America/New_York:20240725T130000
DTEND;TZID=America/New_York:20240725T140000
LOCATION:https://rssny.org/class-forms/montefiore.html
SUMMARY:Health Talk with Montefiore (Hybrid)
END:VEVENT
END:VCALENDAR
